BEGIN:VCALENDAR
VERSION:2.0
PRODID:-//eventon.com NONSGML v1.0//EN
CALSCALE:GREGORIAN
METHOD:PUBLISH
BEGIN:VEVENT
UID:69e505033ac26
DTSTAMP:20260419T163827Z
DTSTART:20260425T090000Z
DTEND:20260425T160000Z
LOCATION:
SUMMARY:Steward Training – Representing a member facing discipline
DESCRIPTION:\nhttp://afscme3090.org/events/steward-training-representing-a-
 member-facing-discipline/
URL:http://afscme3090.org/events/steward-training-representing-a-member-facing-discipline/
END:VEVENT
END:VCALENDAR