BEGIN:VCALENDAR
VERSION:2.0
PRODID:-//eventon.com NONSGML v1.0//EN
CALSCALE:GREGORIAN
METHOD:PUBLISH
BEGIN:VEVENT
UID:69e504b9a022f
DTSTAMP:20260419T163713Z
DTSTART:20260409T120000Z
DTEND:20260409T235900Z
LOCATION:
SUMMARY:Hour of Power
DESCRIPTION:This session will be about cutting through all the&nbsp;Artific
 ial Intelligence&nbsp;hype to understand what digital technologies are and 
 how they impact workers. We&#8217;ll also cover basic public policy and col
 lective bargaining responses to technology change.\nhttp://afscme3090.org/e
 vents/hour-of-power-2/
URL:http://afscme3090.org/events/hour-of-power-2/
END:VEVENT
END:VCALENDAR