BEGIN:VCALENDAR
VERSION:2.0
PRODID:-//eventon.com NONSGML v1.0//EN
CALSCALE:GREGORIAN
METHOD:PUBLISH
BEGIN:VEVENT
UID:69e50424e006e
DTSTAMP:20260419T163444Z
DTSTART:20260411T090000Z
DTEND:20260411T130000Z
LOCATION:
SUMMARY:Secretary-Treasurer Training
DESCRIPTION:This training is for officers and trustees to learn about AFSCM
 E’s Financial Standards Code.You will learn financial responsibility\,  t
 he duties and responsibilities of treasurers\,  the financial standards cod
 e\,  and the role of trustees. Reserve your spot by emailing Joniesha.Palm
 ore@afscme36.org or call (213) 487-9887. Once you reserve your spot\,  you
  will receive a[..]\nhttp://afscme3090.org/events/secretary-treasurer-train
 ing/
URL:http://afscme3090.org/events/secretary-treasurer-training/
END:VEVENT
END:VCALENDAR