BEGIN:VCALENDAR
VERSION:2.0
PRODID:-//eventon.com NONSGML v1.0//EN
CALSCALE:GREGORIAN
METHOD:PUBLISH
BEGIN:VEVENT
UID:69e50403894bf
DTSTAMP:20260419T163411Z
DTSTART:20260425T090000Z
DTEND:20260425T160000Z
LOCATION:
SUMMARY:Steward Training - Representing a Member Facing Discipline
DESCRIPTION:In this training\,  we will delve into the essential components
  of stewardship in disciplinary matters. This session is designed to equip 
 stewards with the tools and knowledge needed to navigate disciplinary proce
 edings confidently and effectively advocate for their fellow union members.
  This trainings will take place in person at 3375[..]\nhttp://afscme3090.or
 g/events/steward-training-representing-a-member-facing-discipline-2/
URL:http://afscme3090.org/events/steward-training-representing-a-member-facing-discipline-2/
END:VEVENT
END:VCALENDAR