BEGIN:VCALENDAR
VERSION:2.0
PRODID:-//eventon.com NONSGML v1.0//EN
CALSCALE:GREGORIAN
METHOD:PUBLISH
BEGIN:VEVENT
UID:69e50471a899c
DTSTAMP:20260419T163601Z
DTSTART:20260408T220000Z
DTEND:20260409T000000Z
LOCATION:Attorney Scott Ford - Office Hours 3375 E. Slauson Avenue\,  Vernon\,  CA 90058
SUMMARY:Workers Compensation Rights & Legal Advice
DESCRIPTION:2nd and 3rd Wednesday of every month Click to view flyer&nbsp;(
 .pdf)\nhttp://afscme3090.org/events/workers-compensation-rights-legal-advic
 e/var/ri-62.l-L1
URL:http://afscme3090.org/events/workers-compensation-rights-legal-advice/var/ri-62.l-L1
END:VEVENT
END:VCALENDAR